BEGIN:VCALENDAR
VERSION:2.0
PRODID:-//Plone.org//NONSGML plone.app.event//EN
X-WR-TIMEZONE:Europe/Berlin
BEGIN:VEVENT
SUMMARY:Senatssitzung
DTSTART;TZID=Europe/Berlin:20250716T141500
DTEND;TZID=Europe/Berlin:20250716T180000
DTSTAMP:20260421T230725Z
UID:a187ddf29d874e0bb7679fc5395db11e@www.uni-marburg.de
CREATED:20240725T130354Z
DESCRIPTION:https://www.uni-marburg.de/de/universitaet/administration/grem
 ien/senat/termine/sitzungstermine/senatssitzung_2025-07-16\nEinladung zur 
 gemeinsamen Sitzung von Senat\, Hochschulrat und Universitätskonferenz am
  16.07.2025
LAST-MODIFIED:20250714T125620Z
LOCATION:Biegenstr. 12\, Senatssitzungssaal 003
URL:https://www.uni-marburg.de/de/universitaet/administration/gremien/sena
 t/termine/sitzungstermine/senatssitzung_2025-07-16
END:VEVENT
BEGIN:VTIMEZONE
TZID:Europe/Berlin
X-LIC-LOCATION:Europe/Berlin
BEGIN:DAYLIGHT
DTSTART:20250330T030000
TZNAME:CEST
TZOFFSETFROM:+0100
TZOFFSETTO:+0200
END:DAYLIGHT
END:VTIMEZONE
END:VCALENDAR
