BEGIN:VCALENDAR
VERSION:2.0
PRODID:-//Plone.org//NONSGML plone.app.event//EN
X-WR-TIMEZONE:Europe/Berlin
BEGIN:VEVENT
SUMMARY:Senatssitzung
DTSTART;TZID=Europe/Berlin:20251112T141500
DTEND;TZID=Europe/Berlin:20251112T180000
DTSTAMP:20260423T174809Z
UID:7144a8d65e2c423a955cce43469a173c@www.uni-marburg.de
CATEGORIES:()
CREATED:20240725T132046Z
DESCRIPTION:https://www.uni-marburg.de/de/universitaet/administration/grem
 ien/senat/termine/sitzungstermine/senatssitzung_2025-11-12\nEinladung zur 
 Senatssitzung am 12.11.2025
LAST-MODIFIED:20251110T112019Z
LOCATION:Biegenstr. 12\, Senatssitzungssaal 003
URL:https://www.uni-marburg.de/de/universitaet/administration/gremien/sena
 t/termine/sitzungstermine/senatssitzung_2025-11-12
END:VEVENT
BEGIN:VTIMEZONE
TZID:Europe/Berlin
X-LIC-LOCATION:Europe/Berlin
BEGIN:STANDARD
DTSTART:20251026T020000
TZNAME:CET
TZOFFSETFROM:+0200
TZOFFSETTO:+0100
END:STANDARD
END:VTIMEZONE
END:VCALENDAR
