BEGIN:VCALENDAR
VERSION:2.0
PRODID:-//Plone.org//NONSGML plone.app.event//EN
X-WR-TIMEZONE:Europe/Berlin
BEGIN:VEVENT
SUMMARY:Senatssitzung
DTSTART;TZID=Europe/Berlin:20260121T141500
DTEND;TZID=Europe/Berlin:20260121T180000
DTSTAMP:20260421T143244Z
UID:2964df56e88a4fdebc34896e90022d12@www.uni-marburg.de
CATEGORIES:()
CREATED:20250520T160528Z
DESCRIPTION:https://www.uni-marburg.de/de/universitaet/administration/grem
 ien/senat/termine/sitzungstermine/senatssitzung_2026-01-21\nEinladung zur 
 Senatssitzung am 21.01.2026
LAST-MODIFIED:20260115T141719Z
LOCATION:Biegenstr. 12\, Senatssitzungssaal 003\, EG
URL:https://www.uni-marburg.de/de/universitaet/administration/gremien/sena
 t/termine/sitzungstermine/senatssitzung_2026-01-21
END:VEVENT
BEGIN:VTIMEZONE
TZID:Europe/Berlin
X-LIC-LOCATION:Europe/Berlin
BEGIN:STANDARD
DTSTART:20251026T020000
TZNAME:CET
TZOFFSETFROM:+0200
TZOFFSETTO:+0100
END:STANDARD
END:VTIMEZONE
END:VCALENDAR
