BEGIN:VCALENDAR
VERSION:2.0
PRODID:-//Plone.org//NONSGML plone.app.event//EN
X-WR-TIMEZONE:Europe/Berlin
BEGIN:VEVENT
SUMMARY:Senatssitzung
DTSTART;TZID=Europe/Berlin:20261209T141500
DTEND;TZID=Europe/Berlin:20261209T180000
DTSTAMP:20260421T173845Z
UID:1a929f71ea9644b984c3e88999da9e5a@www.uni-marburg.de
CREATED:20250520T171648Z
DESCRIPTION:https://www.uni-marburg.de/de/universitaet/administration/grem
 ien/senat/termine/sitzungstermine/senatssitzung_2026-12-09\nEinladung zur 
 Senatssitzung am 09.12.2026
LAST-MODIFIED:20250520T171659Z
LOCATION:Biegenstr. 12\, Senatssitzungssaal 003\, EG
URL:https://www.uni-marburg.de/de/universitaet/administration/gremien/sena
 t/termine/sitzungstermine/senatssitzung_2026-12-09
END:VEVENT
BEGIN:VTIMEZONE
TZID:Europe/Berlin
X-LIC-LOCATION:Europe/Berlin
BEGIN:STANDARD
DTSTART:20261025T020000
TZNAME:CET
TZOFFSETFROM:+0200
TZOFFSETTO:+0100
END:STANDARD
END:VTIMEZONE
END:VCALENDAR
