BEGIN:VCALENDAR
VERSION:2.0
PRODID:-//Plone.org//NONSGML plone.app.event//EN
X-WR-TIMEZONE:Europe/Berlin
BEGIN:VEVENT
SUMMARY:Virtuelle Schnitzeljagden mit ILIAS (Lunch Lecture)
DTSTART;TZID=Europe/Berlin:20231207T123000
DTEND;TZID=Europe/Berlin:20231207T133000
DTSTAMP:20260425T131213Z
UID:fa85b58c425f4d60800ee772d6aa7588@www.uni-marburg.de
ATTENDEE;CN="Achim Hötzel, Referat III B 6 - Lehrentwicklung und Hochschu
 ldidaktik";ROLE=REQ-PARTICIPANT:Achim Hötzel, Referat III B 6 - Lehrentwi
 cklung und Hochschuldidaktik
CREATED:20230724T141359Z
DESCRIPTION:https://www.uni-marburg.de/de/universitaet/administration/verw
 altung/dezernat3/dez3b/hochschuldidaktik/termine-lehrende/termine-2023/vir
 tuelle-schnitzeljagden-mit-ilias-lunch-lecture\nAustauschveranstaltung fü
 r Lehrende
LAST-MODIFIED:20230809T080259Z
LOCATION:Online-Veranstaltung über BigBlueButton
URL:https://www.uni-marburg.de/de/universitaet/administration/verwaltung/d
 ezernat3/dez3b/hochschuldidaktik/termine-lehrende/termine-2023/virtuelle-s
 chnitzeljagden-mit-ilias-lunch-lecture
END:VEVENT
BEGIN:VTIMEZONE
TZID:Europe/Berlin
X-LIC-LOCATION:Europe/Berlin
BEGIN:STANDARD
DTSTART:20231029T020000
TZNAME:CET
TZOFFSETFROM:+0200
TZOFFSETTO:+0100
END:STANDARD
END:VTIMEZONE
END:VCALENDAR
