BEGIN:VCALENDAR
VERSION:2.0
PRODID:-//Plone.org//NONSGML plone.app.event//EN
X-WR-TIMEZONE:Europe/Berlin
BEGIN:VEVENT
SUMMARY:Bildungstechnologie in der Lehre einsetzen - offene Sprechstunde i
 m XSpace Gamelab
DTSTART;TZID=Europe/Berlin:20250312T130000
DTEND;TZID=Europe/Berlin:20250312T160000
DTSTAMP:20260426T035535Z
UID:d4ec22a2ff28422abd76b4a031505e99@www.uni-marburg.de
RRULE:FREQ=WEEKLY;UNTIL=20251029T000000;BYDAY=WE
ATTENDEE;CN="Ramin Siegmund";ROLE=REQ-PARTICIPANT:Ramin Siegmund
CREATED:20250310T084724Z
DESCRIPTION:https://www.uni-marburg.de/de/universitaet/administration/verw
 altung/dezernat3/dez3b/hochschuldidaktik/termine-lehrende/termine-2025/bil
 dungstechnologie-in-der-lehre-einsetzen-offene-sprechstunde-im-xspace-game
 lab\nDas Projekt NIDIT lädt jeden Mittwoch Nachmittag zur offenen Sprechs
 tunde ins XSpace Gamelab der Unibibliothek Marburg ein. Probieren Sie vers
 chiedene Technologien wie Virtual Reality aus\, diskutieren Sie mit uns de
 n Einsatz in der Lehre und entwickeln Sie Ideen für eigene Lehrprojekte
LAST-MODIFIED:20250827T083127Z
LOCATION:XSpace Gamelab der UB Marburg (2. Stock)
URL:https://www.uni-marburg.de/de/universitaet/administration/verwaltung/d
 ezernat3/dez3b/hochschuldidaktik/termine-lehrende/termine-2025/bildungstec
 hnologie-in-der-lehre-einsetzen-offene-sprechstunde-im-xspace-gamelab
END:VEVENT
BEGIN:VTIMEZONE
TZID:Europe/Berlin
X-LIC-LOCATION:Europe/Berlin
BEGIN:STANDARD
DTSTART:20241027T020000
TZNAME:CET
TZOFFSETFROM:+0200
TZOFFSETTO:+0100
END:STANDARD
END:VTIMEZONE
END:VCALENDAR
