BEGIN:VCALENDAR
VERSION:2.0
PRODID:-//Plone.org//NONSGML plone.app.event//EN
X-WR-TIMEZONE:Europe/Berlin
BEGIN:VEVENT
SUMMARY:Treffen der Lenkungsgruppe Selbstlerneinheiten (Netzwerk)
DTSTART;TZID=Europe/Berlin:20250219T110000
DTEND;TZID=Europe/Berlin:20250219T120000
DTSTAMP:20260425T183022Z
UID:9c2767973def4a728712817564ce0ca9@www.uni-marburg.de
ATTENDEE;CN="Viktoria Ribel-Sencan und Katja Franz";ROLE=REQ-PARTICIPANT:V
 iktoria Ribel-Sencan und Katja Franz
CREATED:20250116T091242Z
DESCRIPTION:https://www.uni-marburg.de/de/universitaet/administration/verw
 altung/dezernat3/dez3b/hochschuldidaktik/termine-lehrende/termine-2025/cop
 y_of_treffen-der-lenkungsgruppe-ki-netztwerk\nAustauschveranstaltung
LAST-MODIFIED:20250827T083125Z
LOCATION:Online Veranstaltung über BigBlueButton
URL:https://www.uni-marburg.de/de/universitaet/administration/verwaltung/d
 ezernat3/dez3b/hochschuldidaktik/termine-lehrende/termine-2025/copy_of_tre
 ffen-der-lenkungsgruppe-ki-netztwerk
END:VEVENT
BEGIN:VTIMEZONE
TZID:Europe/Berlin
X-LIC-LOCATION:Europe/Berlin
BEGIN:STANDARD
DTSTART:20241027T020000
TZNAME:CET
TZOFFSETFROM:+0200
TZOFFSETTO:+0100
END:STANDARD
END:VTIMEZONE
END:VCALENDAR
