BEGIN:VCALENDAR
VERSION:2.0
PRODID:-//Plone.org//NONSGML plone.app.event//EN
X-WR-TIMEZONE:Europe/Berlin
BEGIN:VEVENT
SUMMARY:Digitale Future Skills durch projektbasierte Mediengestaltung – 
 am Beispiel von 360°-Medien am 25.06.2025 (Lunch Lecture)
DTSTART;TZID=Europe/Berlin:20250625T123000
DTEND;TZID=Europe/Berlin:20250625T133000
DTSTAMP:20260426T035615Z
UID:08747dab9b744e0588492345496f0492@www.uni-marburg.de
ATTENDEE;CN="Achim Hötzel und Ramin Siegmund";ROLE=REQ-PARTICIPANT:Achim 
 Hötzel und Ramin Siegmund
CREATED:20250314T103435Z
DESCRIPTION:https://www.uni-marburg.de/de/universitaet/administration/verw
 altung/dezernat3/dez3b/hochschuldidaktik/termine-lehrende/termine-2025/dig
 itale-future-skills-durch-projektbasierte-mediengestaltung-am-beispiel-von
 -360deg-medien-lunch-lecture\nAustauschveranstaltung für Lehrende
LAST-MODIFIED:20250827T083129Z
LOCATION:Online Veranstaltung über BigBlueButton
URL:https://www.uni-marburg.de/de/universitaet/administration/verwaltung/d
 ezernat3/dez3b/hochschuldidaktik/termine-lehrende/termine-2025/digitale-fu
 ture-skills-durch-projektbasierte-mediengestaltung-am-beispiel-von-360deg-
 medien-lunch-lecture
END:VEVENT
BEGIN:VTIMEZONE
TZID:Europe/Berlin
X-LIC-LOCATION:Europe/Berlin
BEGIN:DAYLIGHT
DTSTART:20250330T030000
TZNAME:CEST
TZOFFSETFROM:+0100
TZOFFSETTO:+0200
END:DAYLIGHT
END:VTIMEZONE
END:VCALENDAR
