BEGIN:VCALENDAR
VERSION:2.0
PRODID:-//Plone.org//NONSGML plone.app.event//EN
X-WR-TIMEZONE:Europe/Berlin
BEGIN:VEVENT
SUMMARY:Feedback und Zwischenevaluation in der eigenen Lehre (HDM)
DTSTART;TZID=Europe/Berlin:20251009T090000
DTEND;TZID=Europe/Berlin:20251009T150000
DTSTAMP:20260425T214819Z
UID:9128e64fc7d04bcbaed588623f1b6d9c@www.uni-marburg.de
ATTENDEE;CN="Lisa Fröhlich";ROLE=REQ-PARTICIPANT:Lisa Fröhlich
CREATED:20250910T095019Z
DESCRIPTION:https://www.uni-marburg.de/de/universitaet/administration/verw
 altung/dezernat3/dez3b/hochschuldidaktik/termine-lehrende/termine-2025/fee
 dback-und-zwischenevaluation-in-der-eigenen-lehre-hdm\nWorkshop im Rahmen 
 des HDM-Programms
LAST-MODIFIED:20250910T095148Z
LOCATION:MARA\, Deutschhausstr. 11+13\, Raum +1/110 (und Online 28.10.2025
 )
URL:https://www.uni-marburg.de/de/universitaet/administration/verwaltung/d
 ezernat3/dez3b/hochschuldidaktik/termine-lehrende/termine-2025/feedback-un
 d-zwischenevaluation-in-der-eigenen-lehre-hdm
END:VEVENT
BEGIN:VTIMEZONE
TZID:Europe/Berlin
X-LIC-LOCATION:Europe/Berlin
BEGIN:DAYLIGHT
DTSTART:20250330T030000
TZNAME:CEST
TZOFFSETFROM:+0100
TZOFFSETTO:+0200
END:DAYLIGHT
END:VTIMEZONE
END:VCALENDAR
