BEGIN:VCALENDAR
VERSION:2.0
PRODID:-//Plone.org//NONSGML plone.app.event//EN
X-WR-TIMEZONE:Europe/Berlin
BEGIN:VEVENT
SUMMARY:Future Skills in die eigene Lehre integrieren am 09.07.2025 (Lunch
  Lecture)
DTSTART;TZID=Europe/Berlin:20250709T123000
DTEND;TZID=Europe/Berlin:20250709T133000
DTSTAMP:20260425T214824Z
UID:f37edf5fe81c47fba6e28746f81c11a9@www.uni-marburg.de
ATTENDEE;CN="Katja Franz und Claudia Silberberg";ROLE=REQ-PARTICIPANT:Katj
 a Franz und Claudia Silberberg
CREATED:20250314T103854Z
DESCRIPTION:https://www.uni-marburg.de/de/universitaet/administration/verw
 altung/dezernat3/dez3b/hochschuldidaktik/termine-lehrende/termine-2025/fut
 ure-skills-in-die-eigene-lehre-integrieren-lunch-lecture\nAustauschveranst
 altung für Lehrende
LAST-MODIFIED:20250827T083130Z
LOCATION:Online Veranstaltung über BigBlueButton
URL:https://www.uni-marburg.de/de/universitaet/administration/verwaltung/d
 ezernat3/dez3b/hochschuldidaktik/termine-lehrende/termine-2025/future-skil
 ls-in-die-eigene-lehre-integrieren-lunch-lecture
END:VEVENT
BEGIN:VTIMEZONE
TZID:Europe/Berlin
X-LIC-LOCATION:Europe/Berlin
BEGIN:DAYLIGHT
DTSTART:20250330T030000
TZNAME:CEST
TZOFFSETFROM:+0100
TZOFFSETTO:+0200
END:DAYLIGHT
END:VTIMEZONE
END:VCALENDAR
