BEGIN:VCALENDAR
VERSION:2.0
PRODID:-//Plone.org//NONSGML plone.app.event//EN
X-WR-TIMEZONE:Europe/Berlin
BEGIN:VEVENT
SUMMARY:Future Skills und das Marburg Modul am 28.05.2025 (Lunch Lecture)
DTSTART;TZID=Europe/Berlin:20250528T123000
DTEND;TZID=Europe/Berlin:20250528T133000
DTSTAMP:20260426T002244Z
UID:6624f83dbefb46e3b0bfeeff7c6283ec@www.uni-marburg.de
ATTENDEE;CN="Katja Franz und Claudia Silberberg";ROLE=REQ-PARTICIPANT:Katj
 a Franz und Claudia Silberberg
CREATED:20250314T102502Z
DESCRIPTION:https://www.uni-marburg.de/de/universitaet/administration/verw
 altung/dezernat3/dez3b/hochschuldidaktik/termine-lehrende/termine-2025/fut
 ure-skills-und-das-marburg-modul-lunch-lecture\nAustauschveranstaltung fü
 r Lehrende
LAST-MODIFIED:20250827T083129Z
LOCATION:Online Veranstaltung über BigBlueButton
URL:https://www.uni-marburg.de/de/universitaet/administration/verwaltung/d
 ezernat3/dez3b/hochschuldidaktik/termine-lehrende/termine-2025/future-skil
 ls-und-das-marburg-modul-lunch-lecture
END:VEVENT
BEGIN:VTIMEZONE
TZID:Europe/Berlin
X-LIC-LOCATION:Europe/Berlin
BEGIN:DAYLIGHT
DTSTART:20250330T030000
TZNAME:CEST
TZOFFSETFROM:+0100
TZOFFSETTO:+0200
END:DAYLIGHT
END:VTIMEZONE
END:VCALENDAR
