BEGIN:VCALENDAR
VERSION:2.0
PRODID:-//Plone.org//NONSGML plone.app.event//EN
X-WR-TIMEZONE:Europe/Berlin
BEGIN:VEVENT
SUMMARY:Immersives Lernen (Lunch Lecture)
DTSTART;TZID=Europe/Berlin:20250306T123000
DTEND;TZID=Europe/Berlin:20250306T133000
DTSTAMP:20260425T193050Z
UID:390866232c3243ffbf6418437320c4aa@www.uni-marburg.de
ATTENDEE;CN="Achim Hötzel und Ramin Siegmund";ROLE=REQ-PARTICIPANT:Achim 
 Hötzel und Ramin Siegmund
CREATED:20250216T211927Z
DESCRIPTION:https://www.uni-marburg.de/de/universitaet/administration/verw
 altung/dezernat3/dez3b/hochschuldidaktik/termine-lehrende/termine-2025/imm
 ersives-lernen-lunch-lecture\nAustauschveranstaltung für Lehrende
LAST-MODIFIED:20250827T083126Z
LOCATION:Online Veranstaltung über BigBlueButton
URL:https://www.uni-marburg.de/de/universitaet/administration/verwaltung/d
 ezernat3/dez3b/hochschuldidaktik/termine-lehrende/termine-2025/immersives-
 lernen-lunch-lecture
END:VEVENT
BEGIN:VTIMEZONE
TZID:Europe/Berlin
X-LIC-LOCATION:Europe/Berlin
BEGIN:STANDARD
DTSTART:20241027T020000
TZNAME:CET
TZOFFSETFROM:+0200
TZOFFSETTO:+0100
END:STANDARD
END:VTIMEZONE
END:VCALENDAR
