BEGIN:VCALENDAR
VERSION:2.0
PRODID:-//Plone.org//NONSGML plone.app.event//EN
X-WR-TIMEZONE:Europe/Berlin
BEGIN:VEVENT
SUMMARY:Interdisziplinäre Lehre & Team-Teaching: Zu zweit sind wir dreima
 l so gut
DTSTART;TZID=Europe/Berlin:20251027T090000
DTEND;TZID=Europe/Berlin:20251027T170000
DTSTAMP:20260425T183130Z
UID:0b8138c298ff48e9b5ba912f6bdf75a6@www.uni-marburg.de
ATTENDEE;CN="Viktoria Ribel-Sencan";ROLE=REQ-PARTICIPANT:Viktoria Ribel-Se
 ncan
CATEGORIES:()
CREATED:20250926T073136Z
DESCRIPTION:https://www.uni-marburg.de/de/universitaet/administration/verw
 altung/dezernat3/dez3b/hochschuldidaktik/termine-lehrende/termine-2025/int
 erdisziplinaere-lehre-team-teaching-zu-zweit-sind-wir-dreimal-so-gut\nWork
 shop im Rahmen des HDM-Programms
LAST-MODIFIED:20250926T074516Z
LOCATION:MARA MArburg University Research Academy
URL:https://www.uni-marburg.de/de/universitaet/administration/verwaltung/d
 ezernat3/dez3b/hochschuldidaktik/termine-lehrende/termine-2025/interdiszip
 linaere-lehre-team-teaching-zu-zweit-sind-wir-dreimal-so-gut
END:VEVENT
BEGIN:VTIMEZONE
TZID:Europe/Berlin
X-LIC-LOCATION:Europe/Berlin
BEGIN:STANDARD
DTSTART:20251026T020000
TZNAME:CET
TZOFFSETFROM:+0200
TZOFFSETTO:+0100
END:STANDARD
END:VTIMEZONE
END:VCALENDAR
