BEGIN:VCALENDAR
VERSION:2.0
PRODID:-//Plone.org//NONSGML plone.app.event//EN
X-WR-TIMEZONE:Europe/Berlin
BEGIN:VEVENT
SUMMARY:Kollaboratives Lernen als Methode in der Hochschullehre (Lunch Lec
 ture)
DTSTART;TZID=Europe/Berlin:20250227T123000
DTEND;TZID=Europe/Berlin:20250227T133000
DTSTAMP:20260425T235347Z
UID:a250026858464369bd49f0168bad1692@www.uni-marburg.de
ATTENDEE;CN="Viktoria Ribel-Sencan und Ramin Siegmund";ROLE=REQ-PARTICIPAN
 T:Viktoria Ribel-Sencan und Ramin Siegmund
CREATED:20250216T211238Z
DESCRIPTION:https://www.uni-marburg.de/de/universitaet/administration/verw
 altung/dezernat3/dez3b/hochschuldidaktik/termine-lehrende/termine-2025/kol
 laboratives-lernen-als-methode-in-der-hochschullehre-lunch-lecture\nAustau
 schveranstaltung für Lehrende
LAST-MODIFIED:20250827T083126Z
LOCATION:Online Veranstaltung über BigBlueButton
URL:https://www.uni-marburg.de/de/universitaet/administration/verwaltung/d
 ezernat3/dez3b/hochschuldidaktik/termine-lehrende/termine-2025/kollaborati
 ves-lernen-als-methode-in-der-hochschullehre-lunch-lecture
END:VEVENT
BEGIN:VTIMEZONE
TZID:Europe/Berlin
X-LIC-LOCATION:Europe/Berlin
BEGIN:STANDARD
DTSTART:20241027T020000
TZNAME:CET
TZOFFSETFROM:+0200
TZOFFSETTO:+0100
END:STANDARD
END:VTIMEZONE
END:VCALENDAR
