BEGIN:VCALENDAR
VERSION:2.0
PRODID:-//Plone.org//NONSGML plone.app.event//EN
X-WR-TIMEZONE:Europe/Berlin
BEGIN:VEVENT
SUMMARY:Kreatives Denken als Future Skill am 11.06.2025 (Lunch Lecture)
DTSTART;TZID=Europe/Berlin:20250611T123000
DTEND;TZID=Europe/Berlin:20250611T133000
DTSTAMP:20260425T235247Z
UID:4c9976358dd541a690f2ddf63c72f417@www.uni-marburg.de
ATTENDEE;CN="Katja Franz und Albrecht Metzler ";ROLE=REQ-PARTICIPANT:Katja
  Franz und Albrecht Metzler 
CREATED:20250314T102904Z
DESCRIPTION:https://www.uni-marburg.de/de/universitaet/administration/verw
 altung/dezernat3/dez3b/hochschuldidaktik/termine-lehrende/termine-2025/kre
 atives-denken-als-future-skill-lunch-lecture\nAustauschveranstaltung für 
 Lehrende
LAST-MODIFIED:20250827T083129Z
LOCATION:Online Veranstaltung über BigBlueButton
URL:https://www.uni-marburg.de/de/universitaet/administration/verwaltung/d
 ezernat3/dez3b/hochschuldidaktik/termine-lehrende/termine-2025/kreatives-d
 enken-als-future-skill-lunch-lecture
END:VEVENT
BEGIN:VTIMEZONE
TZID:Europe/Berlin
X-LIC-LOCATION:Europe/Berlin
BEGIN:DAYLIGHT
DTSTART:20250330T030000
TZNAME:CEST
TZOFFSETFROM:+0100
TZOFFSETTO:+0200
END:DAYLIGHT
END:VTIMEZONE
END:VCALENDAR
