BEGIN:VCALENDAR
VERSION:2.0
PRODID:-//Plone.org//NONSGML plone.app.event//EN
X-WR-TIMEZONE:Europe/Berlin
BEGIN:VEVENT
SUMMARY:Offene Online-Sprechstunde zum Antragsverfahren des Hessischen Hoc
 hschullehrpreises 2026
DTSTART;TZID=Europe/Berlin:20251118T140000
DTEND;TZID=Europe/Berlin:20251118T150000
DTSTAMP:20260426T000423Z
UID:40416c30d4c74784b87b8e991027f2ff@www.uni-marburg.de
ATTENDEE;CN="Dr. Philipp Lindenstruth";ROLE=REQ-PARTICIPANT:Dr. Philipp Li
 ndenstruth
CATEGORIES:()
CREATED:20231106T085419Z
DESCRIPTION:https://www.uni-marburg.de/de/universitaet/administration/verw
 altung/dezernat3/dez3b/hochschuldidaktik/termine-lehrende/termine-2025/off
 ene-online-sprechstunde-zum-antragsverfahren-des-hessischen-hochschullehrp
 reises-2026\nOffene Online-Sprechstunde zum Antragsverfahren des Hessische
 n Hochschullehrpreises 2026
LAST-MODIFIED:20251030T101536Z
LOCATION:Online
URL:https://www.uni-marburg.de/de/universitaet/administration/verwaltung/d
 ezernat3/dez3b/hochschuldidaktik/termine-lehrende/termine-2025/offene-onli
 ne-sprechstunde-zum-antragsverfahren-des-hessischen-hochschullehrpreises-2
 026
END:VEVENT
BEGIN:VTIMEZONE
TZID:Europe/Berlin
X-LIC-LOCATION:Europe/Berlin
BEGIN:STANDARD
DTSTART:20251026T020000
TZNAME:CET
TZOFFSETFROM:+0200
TZOFFSETTO:+0100
END:STANDARD
END:VTIMEZONE
END:VCALENDAR
