BEGIN:VCALENDAR
VERSION:2.0
PRODID:-//Plone.org//NONSGML plone.app.event//EN
X-WR-TIMEZONE:Europe/Berlin
BEGIN:VEVENT
SUMMARY:Prüfungen mit KI gestalten (Lunch Lecture)
DTSTART;TZID=Europe/Berlin:20250212T123000
DTEND;TZID=Europe/Berlin:20250212T133000
DTSTAMP:20260425T144057Z
UID:879db096a64045098d6e91ad08ea276c@www.uni-marburg.de
ATTENDEE;CN="Sophia Hercher";ROLE=REQ-PARTICIPANT:Sophia Hercher
CREATED:20250109T173913Z
DESCRIPTION:https://www.uni-marburg.de/de/universitaet/administration/verw
 altung/dezernat3/dez3b/hochschuldidaktik/termine-lehrende/termine-2025/pru
 efungen-mit-ki-gestalten-lunch-lecture\nAustauschveranstaltung für Lehren
 de
LAST-MODIFIED:20250827T083125Z
LOCATION:Online-Veranstaltung über BigBlueButton
URL:https://www.uni-marburg.de/de/universitaet/administration/verwaltung/d
 ezernat3/dez3b/hochschuldidaktik/termine-lehrende/termine-2025/pruefungen-
 mit-ki-gestalten-lunch-lecture
END:VEVENT
BEGIN:VTIMEZONE
TZID:Europe/Berlin
X-LIC-LOCATION:Europe/Berlin
BEGIN:STANDARD
DTSTART:20241027T020000
TZNAME:CET
TZOFFSETFROM:+0200
TZOFFSETTO:+0100
END:STANDARD
END:VTIMEZONE
END:VCALENDAR
