BEGIN:VCALENDAR
VERSION:2.0
PRODID:-//Plone.org//NONSGML plone.app.event//EN
X-WR-TIMEZONE:Europe/Berlin
BEGIN:VEVENT
SUMMARY:Qualitätsaspekte digitaler Selbstlerneinheiten (SLE) am 25.09.202
 5 (Lunch Lecture)
DTSTART;TZID=Europe/Berlin:20250925T130000
DTEND;TZID=Europe/Berlin:20250925T133000
DTSTAMP:20260426T042138Z
UID:3284ec2c01c54ed78e6a9abca8458f60@www.uni-marburg.de
ATTENDEE;CN="Viktoria Ribel-Sencan";ROLE=REQ-PARTICIPANT:Viktoria Ribel-Se
 ncan
CREATED:20250827T075953Z
DESCRIPTION:https://www.uni-marburg.de/de/universitaet/administration/verw
 altung/dezernat3/dez3b/hochschuldidaktik/termine-lehrende/termine-2025/qua
 litaetsaspekte-digitaler-selbstlerneinheiten-sle-am-25-09-2025-lunch-lectu
 re\nAustauschveranstaltung für Lehrende
LAST-MODIFIED:20250827T083132Z
LOCATION:Online Veranstaltung über BigBlueButton
URL:https://www.uni-marburg.de/de/universitaet/administration/verwaltung/d
 ezernat3/dez3b/hochschuldidaktik/termine-lehrende/termine-2025/qualitaetsa
 spekte-digitaler-selbstlerneinheiten-sle-am-25-09-2025-lunch-lecture
END:VEVENT
BEGIN:VTIMEZONE
TZID:Europe/Berlin
X-LIC-LOCATION:Europe/Berlin
BEGIN:DAYLIGHT
DTSTART:20250330T030000
TZNAME:CEST
TZOFFSETFROM:+0100
TZOFFSETTO:+0200
END:DAYLIGHT
END:VTIMEZONE
END:VCALENDAR
