BEGIN:VCALENDAR
VERSION:2.0
PRODID:-//Plone.org//NONSGML plone.app.event//EN
X-WR-TIMEZONE:Europe/Berlin
BEGIN:VEVENT
SUMMARY:Sensible Themen in der Hochschullehre (HDM)
DTSTART;TZID=Europe/Berlin:20251008T090000
DTEND;TZID=Europe/Berlin:20251008T170000
DTSTAMP:20260426T021625Z
UID:929a575b7b7c4af19212301bd28119ff@www.uni-marburg.de
ATTENDEE;CN="Dr. Katja Franz";ROLE=REQ-PARTICIPANT:Dr. Katja Franz
CREATED:20250910T092916Z
DESCRIPTION:https://www.uni-marburg.de/de/universitaet/administration/verw
 altung/dezernat3/dez3b/hochschuldidaktik/termine-lehrende/termine-2025/sen
 sible-themen-in-der-hochschullehre\nWorkshop im Rahmen des HDM-Programms
LAST-MODIFIED:20250910T093007Z
LOCATION:MARA\, Deutschhausstr. 11+13\, Raum +1/110
URL:https://www.uni-marburg.de/de/universitaet/administration/verwaltung/d
 ezernat3/dez3b/hochschuldidaktik/termine-lehrende/termine-2025/sensible-th
 emen-in-der-hochschullehre
END:VEVENT
BEGIN:VTIMEZONE
TZID:Europe/Berlin
X-LIC-LOCATION:Europe/Berlin
BEGIN:DAYLIGHT
DTSTART:20250330T030000
TZNAME:CEST
TZOFFSETFROM:+0100
TZOFFSETTO:+0200
END:DAYLIGHT
END:VTIMEZONE
END:VCALENDAR
