BEGIN:VCALENDAR
VERSION:2.0
PRODID:-//Plone.org//NONSGML plone.app.event//EN
X-WR-TIMEZONE:Europe/Berlin
BEGIN:VEVENT
SUMMARY:Treffen der Lenkungsgruppe Selbstlerneinheiten (Netzwerk)
DTSTART;TZID=Europe/Berlin:20250610T113000
DTEND;TZID=Europe/Berlin:20250610T123000
DTSTAMP:20260426T052208Z
UID:f54b22d0fb8c40e0a24e31d736f83309@www.uni-marburg.de
ATTENDEE;CN="Viktoria Ribel-Sencan und Katja Franz";ROLE=REQ-PARTICIPANT:V
 iktoria Ribel-Sencan und Katja Franz
CREATED:20250428T103254Z
DESCRIPTION:https://www.uni-marburg.de/de/universitaet/administration/verw
 altung/dezernat3/dez3b/hochschuldidaktik/termine-lehrende/termine-2025/tre
 ffen-der-lenkungsgruppe-selbstlerneinheiten-netzwerk-1\nAustauschveranstal
 tung
LAST-MODIFIED:20250827T083131Z
LOCATION:Online Veranstaltung über BigBlueButton
URL:https://www.uni-marburg.de/de/universitaet/administration/verwaltung/d
 ezernat3/dez3b/hochschuldidaktik/termine-lehrende/termine-2025/treffen-der
 -lenkungsgruppe-selbstlerneinheiten-netzwerk-1
END:VEVENT
BEGIN:VTIMEZONE
TZID:Europe/Berlin
X-LIC-LOCATION:Europe/Berlin
BEGIN:DAYLIGHT
DTSTART:20250330T030000
TZNAME:CEST
TZOFFSETFROM:+0100
TZOFFSETTO:+0200
END:DAYLIGHT
END:VTIMEZONE
END:VCALENDAR
