BEGIN:VCALENDAR
VERSION:2.0
PRODID:-//Plone.org//NONSGML plone.app.event//EN
X-WR-TIMEZONE:Europe/Berlin
BEGIN:VEVENT
SUMMARY:Treffen der Lenkungsgruppe Selbstlerneinheiten (Netzwerk)
DTSTART;TZID=Europe/Berlin:20250512T130000
DTEND;TZID=Europe/Berlin:20250512T140000
DTSTAMP:20260426T053002Z
UID:1c9aa6a7eb9d49e183c776a9ef5d9aa4@www.uni-marburg.de
ATTENDEE;CN="Viktoria Ribel-Sencan und Katja Franz";ROLE=REQ-PARTICIPANT:V
 iktoria Ribel-Sencan und Katja Franz
CREATED:20250428T101436Z
DESCRIPTION:https://www.uni-marburg.de/de/universitaet/administration/verw
 altung/dezernat3/dez3b/hochschuldidaktik/termine-lehrende/termine-2025/tre
 ffen-der-lenkungsgruppe-selbstlerneinheiten-netzwerk\nAustauschveranstaltu
 ng
LAST-MODIFIED:20250827T083131Z
LOCATION:Online Veranstaltung über BigBlueButton
URL:https://www.uni-marburg.de/de/universitaet/administration/verwaltung/d
 ezernat3/dez3b/hochschuldidaktik/termine-lehrende/termine-2025/treffen-der
 -lenkungsgruppe-selbstlerneinheiten-netzwerk
END:VEVENT
BEGIN:VTIMEZONE
TZID:Europe/Berlin
X-LIC-LOCATION:Europe/Berlin
BEGIN:DAYLIGHT
DTSTART:20250330T030000
TZNAME:CEST
TZOFFSETFROM:+0100
TZOFFSETTO:+0200
END:DAYLIGHT
END:VTIMEZONE
END:VCALENDAR
