BEGIN:VCALENDAR
VERSION:2.0
PRODID:-//Plone.org//NONSGML plone.app.event//EN
X-WR-TIMEZONE:Europe/Berlin
BEGIN:VEVENT
SUMMARY:Virtual Reality in der Hochschullehre umsetzen (Lunch Lecture)
DTSTART;TZID=Europe/Berlin:20250320T123000
DTEND;TZID=Europe/Berlin:20250320T133000
DTSTAMP:20260425T013521Z
UID:028df857c8d94e8e8530e42bd9c52e67@www.uni-marburg.de
ATTENDEE;CN="Ramin Siegmund ";ROLE=REQ-PARTICIPANT:Ramin Siegmund 
CREATED:20250216T212509Z
DESCRIPTION:https://www.uni-marburg.de/de/universitaet/administration/verw
 altung/dezernat3/dez3b/hochschuldidaktik/termine-lehrende/termine-2025/vir
 tual-reality-in-der-hochschullehre-umsetzen-lunch-lecture\nAustauschverans
 taltung für Lehrende
LAST-MODIFIED:20250827T083127Z
LOCATION:Online Veranstaltung über BigBlueButton
URL:https://www.uni-marburg.de/de/universitaet/administration/verwaltung/d
 ezernat3/dez3b/hochschuldidaktik/termine-lehrende/termine-2025/virtual-rea
 lity-in-der-hochschullehre-umsetzen-lunch-lecture
END:VEVENT
BEGIN:VTIMEZONE
TZID:Europe/Berlin
X-LIC-LOCATION:Europe/Berlin
BEGIN:STANDARD
DTSTART:20241027T020000
TZNAME:CET
TZOFFSETFROM:+0200
TZOFFSETTO:+0100
END:STANDARD
END:VTIMEZONE
END:VCALENDAR
