BEGIN:VCALENDAR
VERSION:2.0
PRODID:-//Plone.org//NONSGML plone.app.event//EN
X-WR-TIMEZONE:Europe/Berlin
BEGIN:VEVENT
SUMMARY:Wissenschaftliches Arbeiten mit KI (Lunch Lecture)
DTSTART;TZID=Europe/Berlin:20250129T123000
DTEND;TZID=Europe/Berlin:20250129T133000
DTSTAMP:20260425T072039Z
UID:51b502f8d06d4e71b40f31433713d8d2@www.uni-marburg.de
ATTENDEE;CN="Verena Schmidt";ROLE=REQ-PARTICIPANT:Verena Schmidt
CREATED:20250109T173252Z
DESCRIPTION:https://www.uni-marburg.de/de/universitaet/administration/verw
 altung/dezernat3/dez3b/hochschuldidaktik/termine-lehrende/termine-2025/wis
 senschaftliches-arbeiten-mit-ki-lunch-lecture\nAustauschveranstaltung für
  Lehrende
LAST-MODIFIED:20250827T083124Z
LOCATION:Online-Veranstaltung über BigBlueButton
URL:https://www.uni-marburg.de/de/universitaet/administration/verwaltung/d
 ezernat3/dez3b/hochschuldidaktik/termine-lehrende/termine-2025/wissenschaf
 tliches-arbeiten-mit-ki-lunch-lecture
END:VEVENT
BEGIN:VTIMEZONE
TZID:Europe/Berlin
X-LIC-LOCATION:Europe/Berlin
BEGIN:STANDARD
DTSTART:20241027T020000
TZNAME:CET
TZOFFSETFROM:+0200
TZOFFSETTO:+0100
END:STANDARD
END:VTIMEZONE
END:VCALENDAR
