BEGIN:VCALENDAR
VERSION:2.0
PRODID:-//Plone.org//NONSGML plone.app.event//EN
X-WR-TIMEZONE:Europe/Berlin
BEGIN:VEVENT
SUMMARY:SLE-Werkstatt: Co-Working zur Gestaltung von Selbstlerneinheiten a
 m 13.02.2026
DTSTART;TZID=Europe/Berlin:20260213T140000
DTEND;TZID=Europe/Berlin:20260213T170000
DTSTAMP:20260426T020614Z
UID:60c1b46f30074dda94167c8648fa2025@www.uni-marburg.de
ATTENDEE;CN="Sophia Hercher und Verena Mille";ROLE=REQ-PARTICIPANT:Sophia 
 Hercher und Verena Mille
CATEGORIES:()
CREATED:20260121T114325Z
DESCRIPTION:https://www.uni-marburg.de/de/universitaet/administration/verw
 altung/dezernat3/dez3b/hochschuldidaktik/termine-lehrende/termine-2026/sle
 -werkstatt-co-working-zu-gestaltung-von-selbstlerneinheiten-am-13-02.2026\
 nAustauschveranstaltung
LAST-MODIFIED:20260130T141325Z
LOCATION:Creative Space\, Bahnhofstr. 7
URL:https://www.uni-marburg.de/de/universitaet/administration/verwaltung/d
 ezernat3/dez3b/hochschuldidaktik/termine-lehrende/termine-2026/sle-werksta
 tt-co-working-zu-gestaltung-von-selbstlerneinheiten-am-13-02.2026
END:VEVENT
BEGIN:VTIMEZONE
TZID:Europe/Berlin
X-LIC-LOCATION:Europe/Berlin
BEGIN:STANDARD
DTSTART:20251026T020000
TZNAME:CET
TZOFFSETFROM:+0200
TZOFFSETTO:+0100
END:STANDARD
END:VTIMEZONE
END:VCALENDAR
