BEGIN:VCALENDAR
VERSION:2.0
PRODID:-//Plone.org//NONSGML plone.app.event//EN
X-WR-TIMEZONE:Europe/Berlin
BEGIN:VEVENT
SUMMARY:Basisschulung Lehren und Lernen im Tutorium am 30.09\, 01. und 02.
 10.2024
DTSTART;TZID=Europe/Berlin:20240930T090000
DTEND;TZID=Europe/Berlin:20241002T130000
DTSTAMP:20260425T092840Z
UID:2ecb7bbe060b43c69d8cd47f0a5b28a4@www.uni-marburg.de
ATTENDEE;CN="Claudia Silberberg und Philipp Lindenstruth";ROLE=REQ-PARTICI
 PANT:Claudia Silberberg und Philipp Lindenstruth
CREATED:20240820T110536Z
DESCRIPTION:https://www.uni-marburg.de/de/universitaet/administration/verw
 altung/dezernat3/dez3b/hochschuldidaktik/termine-studierende/fit-2024/basi
 sschulung-lehren-und-lernen-im-tutorium-1\nWorkshop im Rahmen des Basismod
 uls der Tutorienqualizierung für studentische Tutor/innen
LAST-MODIFIED:20240820T111853Z
LOCATION:Campus Firmanei F|05 (Deutschhausstraße 11+13) Raum +01.0010
URL:https://www.uni-marburg.de/de/universitaet/administration/verwaltung/d
 ezernat3/dez3b/hochschuldidaktik/termine-studierende/fit-2024/basisschulun
 g-lehren-und-lernen-im-tutorium-1
END:VEVENT
BEGIN:VTIMEZONE
TZID:Europe/Berlin
X-LIC-LOCATION:Europe/Berlin
BEGIN:DAYLIGHT
DTSTART:20240331T030000
TZNAME:CEST
TZOFFSETFROM:+0100
TZOFFSETTO:+0200
END:DAYLIGHT
END:VTIMEZONE
END:VCALENDAR
