BEGIN:VCALENDAR
VERSION:2.0
PRODID:-//Plone.org//NONSGML plone.app.event//EN
X-WR-TIMEZONE:Europe/Berlin
BEGIN:VEVENT
SUMMARY:Basisschulung Lehren und Lernen im Tutorium
DTSTART;TZID=Europe/Berlin:20240326T090000
DTEND;TZID=Europe/Berlin:20240326T133000
DTSTAMP:20260425T224801Z
UID:028aac0c46bc4839bef9ebf9fe462a0e@www.uni-marburg.de
RRULE:FREQ=DAILY;UNTIL=20240328T000000
ATTENDEE;CN="Claudia Silberberg und Philipp Lindenstruth";ROLE=REQ-PARTICI
 PANT:Claudia Silberberg und Philipp Lindenstruth
CREATED:20240216T104952Z
DESCRIPTION:https://www.uni-marburg.de/de/universitaet/administration/verw
 altung/dezernat3/dez3b/hochschuldidaktik/termine-studierende/fit-2024/basi
 sschulung-lehren-und-lernen-im-tutorium\nWorkshop im Rahmen des Basismodul
 s der Tutorienqualizierung für studentische Tutor/innen
LAST-MODIFIED:20240216T121904Z
LOCATION:Campus Firmanei F|05 (Deutschhausstraße 11+13) Raum +01.0010
URL:https://www.uni-marburg.de/de/universitaet/administration/verwaltung/d
 ezernat3/dez3b/hochschuldidaktik/termine-studierende/fit-2024/basisschulun
 g-lehren-und-lernen-im-tutorium
END:VEVENT
BEGIN:VTIMEZONE
TZID:Europe/Berlin
X-LIC-LOCATION:Europe/Berlin
BEGIN:STANDARD
DTSTART:20231029T020000
TZNAME:CET
TZOFFSETFROM:+0200
TZOFFSETTO:+0100
END:STANDARD
END:VTIMEZONE
END:VCALENDAR
