BEGIN:VCALENDAR
VERSION:2.0
PRODID:-//Plone.org//NONSGML plone.app.event//EN
X-WR-TIMEZONE:Europe/Berlin
BEGIN:VEVENT
SUMMARY:Hochschulübergreifende semesterabschließende Reflexion
DTSTART;TZID=Europe/Berlin:20250130T100000
DTEND;TZID=Europe/Berlin:20250130T123000
DTSTAMP:20260425T225810Z
UID:c80e16d6e33c43c393aa200b048e0efc@www.uni-marburg.de
CREATED:20240911T103604Z
DESCRIPTION:https://www.uni-marburg.de/de/universitaet/administration/verw
 altung/dezernat3/dez3b/hochschuldidaktik/termine-studierende/fit-2024/hoch
 schuluebergreifende-semesterabschliessende-reflexion-1\n
LAST-MODIFIED:20240911T110647Z
LOCATION:online
URL:https://www.uni-marburg.de/de/universitaet/administration/verwaltung/d
 ezernat3/dez3b/hochschuldidaktik/termine-studierende/fit-2024/hochschulueb
 ergreifende-semesterabschliessende-reflexion-1
END:VEVENT
BEGIN:VTIMEZONE
TZID:Europe/Berlin
X-LIC-LOCATION:Europe/Berlin
BEGIN:STANDARD
DTSTART:20241027T020000
TZNAME:CET
TZOFFSETFROM:+0200
TZOFFSETTO:+0100
END:STANDARD
END:VTIMEZONE
END:VCALENDAR
