BEGIN:VCALENDAR
VERSION:2.0
PRODID:-//Plone.org//NONSGML plone.app.event//EN
X-WR-TIMEZONE:Europe/Berlin
BEGIN:VEVENT
SUMMARY:Hochschulübergreifende Semesterabschließende Reflexion
DTSTART;TZID=Europe/Berlin:20240627T100000
DTEND;TZID=Europe/Berlin:20240627T120000
DTSTAMP:20260425T202559Z
UID:fd73672e62004abebdc6fcb8f2e3d313@www.uni-marburg.de
ATTENDEE;CN="Juliane Sommer (JLU)";ROLE=REQ-PARTICIPANT:Juliane Sommer (JL
 U)
ATTENDEE;CN="Claudia Silberberg (UMR)";ROLE=REQ-PARTICIPANT:Claudia Silber
 berg (UMR)
CREATED:20240216T113815Z
DESCRIPTION:https://www.uni-marburg.de/de/universitaet/administration/verw
 altung/dezernat3/dez3b/hochschuldidaktik/termine-studierende/fit-2024/hoch
 schuluebergreifende-semesterabschliessende-reflexion\nWorkshop im Rahmen d
 es Basismoduls der Tutorienqualizierung für studentische Tutor/innen
LAST-MODIFIED:20240219T110638Z
LOCATION:Online-Veranstaltung über BigBlueButton
URL:https://www.uni-marburg.de/de/universitaet/administration/verwaltung/d
 ezernat3/dez3b/hochschuldidaktik/termine-studierende/fit-2024/hochschulueb
 ergreifende-semesterabschliessende-reflexion
END:VEVENT
BEGIN:VTIMEZONE
TZID:Europe/Berlin
X-LIC-LOCATION:Europe/Berlin
BEGIN:DAYLIGHT
DTSTART:20240331T030000
TZNAME:CEST
TZOFFSETFROM:+0100
TZOFFSETTO:+0200
END:DAYLIGHT
END:VTIMEZONE
END:VCALENDAR
