BEGIN:VCALENDAR
VERSION:2.0
PRODID:-//Plone.org//NONSGML plone.app.event//EN
X-WR-TIMEZONE:Europe/Berlin
BEGIN:VEVENT
SUMMARY:Kick-Off Tutor*innen Meeting
DTSTART;TZID=Europe/Berlin:20241001T140000
DTEND;TZID=Europe/Berlin:20241001T150000
DTSTAMP:20260426T010909Z
UID:8aa8880711c34723bb26e7042a3eb8e5@www.uni-marburg.de
CREATED:20240911T100711Z
DESCRIPTION:https://www.uni-marburg.de/de/universitaet/administration/verw
 altung/dezernat3/dez3b/hochschuldidaktik/termine-studierende/fit-2024/kick
 -off-tutor-innen-meeting\n
LAST-MODIFIED:20240911T100732Z
LOCATION:https://webconf.hrz.uni-marburg.de/n/rooms/hdy-b3a-lyy-hjo
URL:https://www.uni-marburg.de/de/universitaet/administration/verwaltung/d
 ezernat3/dez3b/hochschuldidaktik/termine-studierende/fit-2024/kick-off-tut
 or-innen-meeting
END:VEVENT
BEGIN:VTIMEZONE
TZID:Europe/Berlin
X-LIC-LOCATION:Europe/Berlin
BEGIN:DAYLIGHT
DTSTART:20240331T030000
TZNAME:CEST
TZOFFSETFROM:+0100
TZOFFSETTO:+0200
END:DAYLIGHT
END:VTIMEZONE
END:VCALENDAR
