BEGIN:VCALENDAR
VERSION:2.0
PRODID:-//Plone.org//NONSGML plone.app.event//EN
X-WR-TIMEZONE:Europe/Berlin
BEGIN:VEVENT
SUMMARY:Kommunikation - auch in schwierigen Situationen am 01.11.2024
DTSTART;TZID=Europe/Berlin:20241101T090000
DTEND;TZID=Europe/Berlin:20241101T170000
DTSTAMP:20260425T212927Z
UID:815b0bd5721e44f8aa310e12df224d67@www.uni-marburg.de
ATTENDEE;CN="Felicitas Menges";ROLE=REQ-PARTICIPANT:Felicitas Menges
CREATED:20240820T095103Z
DESCRIPTION:https://www.uni-marburg.de/de/universitaet/administration/verw
 altung/dezernat3/dez3b/hochschuldidaktik/termine-studierende/fit-2024/komm
 unikation-auch-in-schwierigen-situationen-1\nWorkshop im Rahmen des Wahlpf
 lichtmoduls der Tutorienqualifizierung für studentische Tutor/innen
LAST-MODIFIED:20240820T112130Z
LOCATION:Campus Firmanei F|05 (Deutschhausstraße 11+13) Raum +01.0010
URL:https://www.uni-marburg.de/de/universitaet/administration/verwaltung/d
 ezernat3/dez3b/hochschuldidaktik/termine-studierende/fit-2024/kommunikatio
 n-auch-in-schwierigen-situationen-1
END:VEVENT
BEGIN:VTIMEZONE
TZID:Europe/Berlin
X-LIC-LOCATION:Europe/Berlin
BEGIN:STANDARD
DTSTART:20241027T020000
TZNAME:CET
TZOFFSETFROM:+0200
TZOFFSETTO:+0100
END:STANDARD
END:VTIMEZONE
END:VCALENDAR
