BEGIN:VCALENDAR
VERSION:2.0
PRODID:-//Plone.org//NONSGML plone.app.event//EN
X-WR-TIMEZONE:Europe/Berlin
BEGIN:VEVENT
SUMMARY:Kommunikation - auch in schwierigen Situationen
DTSTART;TZID=Europe/Berlin:20240503T090000
DTEND;TZID=Europe/Berlin:20240503T170000
DTSTAMP:20260425T194803Z
UID:bd3e356b7c8a4818ad82a5552da249a7@www.uni-marburg.de
ATTENDEE;CN="Felicitas Menges";ROLE=REQ-PARTICIPANT:Felicitas Menges
CREATED:20240216T114643Z
DESCRIPTION:https://www.uni-marburg.de/de/universitaet/administration/verw
 altung/dezernat3/dez3b/hochschuldidaktik/termine-studierende/fit-2024/komm
 unikation-auch-in-schwierigen-situationen\nWorkshop im Rahmen des Wahlpfli
 chtmoduls der Tutorienqualifizierung für studentische Tutor/innen
LAST-MODIFIED:20240216T121814Z
LOCATION:Campus Firmanei F|05 (Deutschhausstraße 11+13) Raum +01.0010
URL:https://www.uni-marburg.de/de/universitaet/administration/verwaltung/d
 ezernat3/dez3b/hochschuldidaktik/termine-studierende/fit-2024/kommunikatio
 n-auch-in-schwierigen-situationen
END:VEVENT
BEGIN:VTIMEZONE
TZID:Europe/Berlin
X-LIC-LOCATION:Europe/Berlin
BEGIN:DAYLIGHT
DTSTART:20240331T030000
TZNAME:CEST
TZOFFSETFROM:+0100
TZOFFSETTO:+0200
END:DAYLIGHT
END:VTIMEZONE
END:VCALENDAR
