BEGIN:VCALENDAR
VERSION:2.0
PRODID:-//Plone.org//NONSGML plone.app.event//EN
X-WR-TIMEZONE:Europe/Berlin
BEGIN:VEVENT
SUMMARY:Die Rolle von Hochschulsport und Segelflug im NS am Beispiel der T
 urn- und Sportlehrerin Vera von Pirscher
DTSTART;TZID=Europe/Berlin:20250626T183000
DTSTAMP:20260426T051938Z
UID:b7f842379d2749ae86b8baf3184c474d@www.uni-marburg.de
CREATED:20250417T092605Z
DESCRIPTION:https://www.uni-marburg.de/de/universitaet/administration/verw
 altung/stabsstellen/adis/aktuelles/termine/ausstellung-marburger-frauen-im
 -ns\nTeil der Ausstellung "Marburger Frauen im Nationalsozialismus"
LAST-MODIFIED:20250618T143316Z
LOCATION:Universitätsbibliothek Marburg
URL:https://www.uni-marburg.de/de/universitaet/administration/verwaltung/s
 tabsstellen/adis/aktuelles/termine/ausstellung-marburger-frauen-im-ns
END:VEVENT
BEGIN:VTIMEZONE
TZID:Europe/Berlin
X-LIC-LOCATION:Europe/Berlin
BEGIN:DAYLIGHT
DTSTART:20250330T030000
TZNAME:CEST
TZOFFSETFROM:+0100
TZOFFSETTO:+0200
END:DAYLIGHT
END:VTIMEZONE
END:VCALENDAR
