BEGIN:VCALENDAR
VERSION:2.0
PRODID:-//Plone.org//NONSGML plone.app.event//EN
X-WR-TIMEZONE:Europe/Berlin
BEGIN:VEVENT
SUMMARY:Awareness Schulung für die OE - in Präsenz
DTSTART;TZID=Europe/Berlin:20250930T140000
DTEND;TZID=Europe/Berlin:20250930T173000
DTSTAMP:20260425T230939Z
UID:6c1633c2b1f4483dbc679310940dd18c@www.uni-marburg.de
ATTENDEE;CN="Katharina Völsch (ADiS)";ROLE=REQ-PARTICIPANT:Katharina Völ
 sch (ADiS)
CREATED:20250911T140945Z
DESCRIPTION:https://www.uni-marburg.de/de/universitaet/administration/verw
 altung/stabsstellen/adis/aktuelles/termine/awareness-schulung-fuer-die-oe-
 in-praesenz\n
LAST-MODIFIED:20250911T140956Z
LOCATION:wird nach der Anmeldung bekannt gegeben
URL:https://www.uni-marburg.de/de/universitaet/administration/verwaltung/s
 tabsstellen/adis/aktuelles/termine/awareness-schulung-fuer-die-oe-in-praes
 enz
END:VEVENT
BEGIN:VTIMEZONE
TZID:Europe/Berlin
X-LIC-LOCATION:Europe/Berlin
BEGIN:DAYLIGHT
DTSTART:20250330T030000
TZNAME:CEST
TZOFFSETFROM:+0100
TZOFFSETTO:+0200
END:DAYLIGHT
END:VTIMEZONE
END:VCALENDAR
