BEGIN:VCALENDAR
VERSION:2.0
PRODID:-//Plone.org//NONSGML plone.app.event//EN
X-WR-TIMEZONE:Europe/Berlin
BEGIN:VEVENT
SUMMARY:Basics sexuelle und geschlechtliche Vielfalt
DTSTART;TZID=Europe/Berlin:20260423T090000
DTEND;TZID=Europe/Berlin:20260423T150000
DTSTAMP:20260425T233152Z
UID:801145f45eed4215808dcf4e2c57308d@www.uni-marburg.de
ATTENDEE;CN="Bernadette Möhlen & Birol Mertol";ROLE=REQ-PARTICIPANT:Berna
 dette Möhlen & Birol Mertol
CREATED:20251023T151000Z
DESCRIPTION:https://www.uni-marburg.de/de/universitaet/administration/verw
 altung/stabsstellen/adis/aktuelles/termine/basics-sexuelle-und-geschlechtl
 iche-vielfalt\nFortbildung der Fachstelle Gender & Diversität
LAST-MODIFIED:20251023T151006Z
LOCATION:Online via Zoom
URL:https://www.uni-marburg.de/de/universitaet/administration/verwaltung/s
 tabsstellen/adis/aktuelles/termine/basics-sexuelle-und-geschlechtliche-vie
 lfalt
END:VEVENT
BEGIN:VTIMEZONE
TZID:Europe/Berlin
X-LIC-LOCATION:Europe/Berlin
BEGIN:DAYLIGHT
DTSTART:20260329T030000
TZNAME:CEST
TZOFFSETFROM:+0100
TZOFFSETTO:+0200
END:DAYLIGHT
END:VTIMEZONE
END:VCALENDAR
