BEGIN:VCALENDAR
VERSION:2.0
PRODID:-//Plone.org//NONSGML plone.app.event//EN
X-WR-TIMEZONE:Europe/Berlin
BEGIN:VEVENT
SUMMARY:BIPoC Empowerment Theaterworkshop
DTSTART;TZID=Europe/Berlin:20240626T160000
DTEND;TZID=Europe/Berlin:20240626T190000
DTSTAMP:20260424T114054Z
UID:f547fa13b0894ba49b3e4fb8b316ce24@www.uni-marburg.de
ATTENDEE;CN="Shivā Amiri (keine Pronomen)";ROLE=REQ-PARTICIPANT:Shivā Am
 iri (keine Pronomen)
ATTENDEE;CN=;ROLE=REQ-PARTICIPANT:
CREATED:20240603T093807Z
DESCRIPTION:https://www.uni-marburg.de/de/universitaet/administration/verw
 altung/stabsstellen/adis/aktuelles/termine/bipoc-empowerment-theaterworksh
 op\n
LAST-MODIFIED:20240604T105018Z
LOCATION:Wird nach der Anmeldung bekannt gegeben
URL:https://www.uni-marburg.de/de/universitaet/administration/verwaltung/s
 tabsstellen/adis/aktuelles/termine/bipoc-empowerment-theaterworkshop
END:VEVENT
BEGIN:VTIMEZONE
TZID:Europe/Berlin
X-LIC-LOCATION:Europe/Berlin
BEGIN:DAYLIGHT
DTSTART:20240331T030000
TZNAME:CEST
TZOFFSETFROM:+0100
TZOFFSETTO:+0200
END:DAYLIGHT
END:VTIMEZONE
END:VCALENDAR
