BEGIN:VCALENDAR
VERSION:2.0
PRODID:-//Plone.org//NONSGML plone.app.event//EN
X-WR-TIMEZONE:Europe/Berlin
BEGIN:VEVENT
SUMMARY:Buchvorstellung und Gespräch | #SpeakingOfMultitudes 3: René Agu
 igah im Gespräch mit Matti Traußneck
DTSTART;TZID=Europe/Berlin:20250703T201500
DTEND;TZID=Europe/Berlin:20250703T221500
DTSTAMP:20260425T201637Z
UID:779e753b071140ca8b724975e7bd1e85@www.uni-marburg.de
ATTENDEE;CN=" René Aguigah & Matti Traußneck";ROLE=REQ-PARTICIPANT: Ren
 é Aguigah & Matti Traußneck
CREATED:20250703T103111Z
DESCRIPTION:https://www.uni-marburg.de/de/universitaet/administration/verw
 altung/stabsstellen/adis/aktuelles/termine/buchvorstellung-und-gespraech-s
 peakingofmultitudes-3-rene-aguigah-im-gespraech-mit-matti-traussneck\n
LAST-MODIFIED:20250703T103119Z
LOCATION:Theater am Schwanhof\, Foyer\, Am Schwanhof 68-72\, 35037 Marburg
URL:https://www.uni-marburg.de/de/universitaet/administration/verwaltung/s
 tabsstellen/adis/aktuelles/termine/buchvorstellung-und-gespraech-speakingo
 fmultitudes-3-rene-aguigah-im-gespraech-mit-matti-traussneck
END:VEVENT
BEGIN:VTIMEZONE
TZID:Europe/Berlin
X-LIC-LOCATION:Europe/Berlin
BEGIN:DAYLIGHT
DTSTART:20250330T030000
TZNAME:CEST
TZOFFSETFROM:+0100
TZOFFSETTO:+0200
END:DAYLIGHT
END:VTIMEZONE
END:VCALENDAR
