BEGIN:VCALENDAR
VERSION:2.0
PRODID:-//Plone.org//NONSGML plone.app.event//EN
X-WR-TIMEZONE:Europe/Berlin
BEGIN:VEVENT
SUMMARY:Coiling Inclusion: Towards LGBTQIA+ Intersectional teaching at Eur
 opean Universities
DTSTART;TZID=Europe/Berlin:20250213T170000
DTSTAMP:20260425T141931Z
UID:8a29751190b7462099eb5aa622fab396@www.uni-marburg.de
ATTENDEE;CN="Marburg University, University of Calabria, Comillas Pontific
 al University, University of West Bohemia";ROLE=REQ-PARTICIPANT:Marburg Un
 iversity, University of Calabria, Comillas Pontifical University, Universi
 ty of West Bohemia
ATTENDEE;CN="Bella FitzPatrick, Miltos Pavlou";ROLE=REQ-PARTICIPANT:Bella 
 FitzPatrick, Miltos Pavlou
CREATED:20250207T112851Z
DESCRIPTION:https://www.uni-marburg.de/de/universitaet/administration/verw
 altung/stabsstellen/adis/aktuelles/termine/coiling-inclusion-towards-lgbtq
 ia-intersectional-teaching-at-european-universities\nAn EUPeace - European
  University project
LAST-MODIFIED:20250207T112923Z
LOCATION:Online via Zoom
URL:https://www.uni-marburg.de/de/universitaet/administration/verwaltung/s
 tabsstellen/adis/aktuelles/termine/coiling-inclusion-towards-lgbtqia-inter
 sectional-teaching-at-european-universities
END:VEVENT
BEGIN:VTIMEZONE
TZID:Europe/Berlin
X-LIC-LOCATION:Europe/Berlin
BEGIN:STANDARD
DTSTART:20241027T020000
TZNAME:CET
TZOFFSETFROM:+0200
TZOFFSETTO:+0100
END:STANDARD
END:VTIMEZONE
END:VCALENDAR
