BEGIN:VCALENDAR
VERSION:2.0
PRODID:-//Plone.org//NONSGML plone.app.event//EN
X-WR-TIMEZONE:Europe/Berlin
BEGIN:VEVENT
SUMMARY:Lagerbordelle und Sexzwangsarbeit am Beispiel von Franziska W.
DTSTART;TZID=Europe/Berlin:20250703T183000
DTSTAMP:20260425T215600Z
UID:ec977c38676a4b7287fff586cf90dde8@www.uni-marburg.de
CREATED:20250417T092605Z
DESCRIPTION:https://www.uni-marburg.de/de/universitaet/administration/verw
 altung/stabsstellen/adis/aktuelles/termine/copy_of_ausstellung-marburger-f
 rauen-im-ns\nTeil der Ausstellung "Marburger Frauen im Nationalsozialismus
 "
LAST-MODIFIED:20250618T144015Z
LOCATION:Universitätsbibliothek Marburg
URL:https://www.uni-marburg.de/de/universitaet/administration/verwaltung/s
 tabsstellen/adis/aktuelles/termine/copy_of_ausstellung-marburger-frauen-im
 -ns
END:VEVENT
BEGIN:VTIMEZONE
TZID:Europe/Berlin
X-LIC-LOCATION:Europe/Berlin
BEGIN:DAYLIGHT
DTSTART:20250330T030000
TZNAME:CEST
TZOFFSETFROM:+0100
TZOFFSETTO:+0200
END:DAYLIGHT
END:VTIMEZONE
END:VCALENDAR
