BEGIN:VCALENDAR
VERSION:2.0
PRODID:-//Plone.org//NONSGML plone.app.event//EN
X-WR-TIMEZONE:Europe/Berlin
BEGIN:VEVENT
SUMMARY:Demo "Wähl Liebe"
DTSTART;TZID=Europe/Berlin:20250215T115500
DTSTAMP:20260425T014145Z
UID:bc5aeb2df5fd43f6bf3c238df1682da9@www.uni-marburg.de
CREATED:20250205T131519Z
DESCRIPTION:https://www.uni-marburg.de/de/universitaet/administration/verw
 altung/stabsstellen/adis/aktuelles/termine/demo-waehl-liebe\nEine bundeswe
 ite Kampagne der CSDs
LAST-MODIFIED:20250205T131530Z
LOCATION:Marburg Hauptbahnhof
URL:https://www.uni-marburg.de/de/universitaet/administration/verwaltung/s
 tabsstellen/adis/aktuelles/termine/demo-waehl-liebe
END:VEVENT
BEGIN:VTIMEZONE
TZID:Europe/Berlin
X-LIC-LOCATION:Europe/Berlin
BEGIN:STANDARD
DTSTART:20241027T020000
TZNAME:CET
TZOFFSETFROM:+0200
TZOFFSETTO:+0100
END:STANDARD
END:VTIMEZONE
END:VCALENDAR
