BEGIN:VCALENDAR
VERSION:2.0
PRODID:-//Plone.org//NONSGML plone.app.event//EN
X-WR-TIMEZONE:Europe/Berlin
BEGIN:VEVENT
SUMMARY:DEMOKRATIE OHNE GESCHLECHT – GEHT DAS ÜBERHAUPT?
DTSTART;TZID=Europe/Berlin:20251010T160000
DTEND;TZID=Europe/Berlin:20251010T193000
DTSTAMP:20260426T021626Z
UID:1211c55547a44fca9cb71f1db126707d@www.uni-marburg.de
CATEGORIES:()
CREATED:20251008T130216Z
DESCRIPTION:https://www.uni-marburg.de/de/universitaet/administration/verw
 altung/stabsstellen/adis/aktuelles/termine/demokratie-ohne-geschlecht-geht
 -das-ueberhaupt\nBürger*innen Veranstaltung
LAST-MODIFIED:20251008T130319Z
LOCATION:Sitzungssaal der Stadtverordnetenversammlung\, Barfüßerstraße 
 50\, 35037 Marburg
URL:https://www.uni-marburg.de/de/universitaet/administration/verwaltung/s
 tabsstellen/adis/aktuelles/termine/demokratie-ohne-geschlecht-geht-das-ueb
 erhaupt
END:VEVENT
BEGIN:VTIMEZONE
TZID:Europe/Berlin
X-LIC-LOCATION:Europe/Berlin
BEGIN:DAYLIGHT
DTSTART:20250330T030000
TZNAME:CEST
TZOFFSETFROM:+0100
TZOFFSETTO:+0200
END:DAYLIGHT
END:VTIMEZONE
END:VCALENDAR
