BEGIN:VCALENDAR
VERSION:2.0
PRODID:-//Plone.org//NONSGML plone.app.event//EN
X-WR-TIMEZONE:Europe/Berlin
BEGIN:VEVENT
SUMMARY:Die Schweiz und Antisemitismus
DTSTART;TZID=Europe/Berlin:20250625T180000
DTEND;TZID=Europe/Berlin:20250625T191500
DTSTAMP:20260424T210036Z
UID:58bfa41410e94982a660b8c298533888@www.uni-marburg.de
ATTENDEE;CN="Dr. Simon Erlanger (Universität Luzern)";ROLE=REQ-PARTICIPAN
 T:Dr. Simon Erlanger (Universität Luzern)
CREATED:20250519T121735Z
DESCRIPTION:https://www.uni-marburg.de/de/universitaet/administration/verw
 altung/stabsstellen/adis/aktuelles/termine/die-schweiz-und-antisemitismus\
 nTeil der Vortragsreihe "Jüdisches Leben seit dem 7. Oktober 2023"
LAST-MODIFIED:20250519T121741Z
LOCATION:Online via Zoom
URL:https://www.uni-marburg.de/de/universitaet/administration/verwaltung/s
 tabsstellen/adis/aktuelles/termine/die-schweiz-und-antisemitismus
END:VEVENT
BEGIN:VTIMEZONE
TZID:Europe/Berlin
X-LIC-LOCATION:Europe/Berlin
BEGIN:DAYLIGHT
DTSTART:20250330T030000
TZNAME:CEST
TZOFFSETFROM:+0100
TZOFFSETTO:+0200
END:DAYLIGHT
END:VTIMEZONE
END:VCALENDAR
