BEGIN:VCALENDAR
VERSION:2.0
PRODID:-//Plone.org//NONSGML plone.app.event//EN
X-WR-TIMEZONE:Europe/Berlin
BEGIN:VEVENT
SUMMARY:Ein Jahr nach dem 07. Oktober. Was tun mit all den Positionen & Pe
 rspektiven?
DTSTART;TZID=Europe/Berlin:20250212T140000
DTEND;TZID=Europe/Berlin:20250212T180000
DTSTAMP:20260426T034551Z
UID:6343d2fe13ec43a6a725883f9c9017ef@www.uni-marburg.de
ATTENDEE;CN=" Bildungsstätte Anne Frank";ROLE=REQ-PARTICIPANT: Bildungsst
 ätte Anne Frank
CREATED:20250128T143224Z
DESCRIPTION:https://www.uni-marburg.de/de/universitaet/administration/verw
 altung/stabsstellen/adis/aktuelles/termine/ein-jahr-nach-dem-07-oktober-wa
 s-tun-mit-all-den-positionen-perspektiven-1\nWorkshop für Studierende
LAST-MODIFIED:20250128T143231Z
LOCATION:Bekanntgabe nach Anmeldung
URL:https://www.uni-marburg.de/de/universitaet/administration/verwaltung/s
 tabsstellen/adis/aktuelles/termine/ein-jahr-nach-dem-07-oktober-was-tun-mi
 t-all-den-positionen-perspektiven-1
END:VEVENT
BEGIN:VTIMEZONE
TZID:Europe/Berlin
X-LIC-LOCATION:Europe/Berlin
BEGIN:STANDARD
DTSTART:20241027T020000
TZNAME:CET
TZOFFSETFROM:+0200
TZOFFSETTO:+0100
END:STANDARD
END:VTIMEZONE
END:VCALENDAR
