BEGIN:VCALENDAR
VERSION:2.0
PRODID:-//Plone.org//NONSGML plone.app.event//EN
X-WR-TIMEZONE:Europe/Berlin
BEGIN:VEVENT
SUMMARY:Empowerment-Workshop für Betroffene von antimuslimischem Rassismu
 s
DTSTART;TZID=Europe/Berlin:20260122T110000
DTEND;TZID=Europe/Berlin:20260122T150000
DTSTAMP:20260426T012150Z
UID:bfcac4fbe80c4460be7e858b136e0e53@www.uni-marburg.de
CATEGORIES:()
CREATED:20251218T132540Z
DESCRIPTION:https://www.uni-marburg.de/de/universitaet/administration/verw
 altung/stabsstellen/adis/aktuelles/termine/empowerment-workshop-fuer-betro
 ffene-von-antimuslimischem-rassismus\nEin Workshop von CLAIM in Kooperatio
 n mit der ADiS
LAST-MODIFIED:20260115T143844Z
LOCATION:Wird nach Anmeldung bekanntgegeben
URL:https://www.uni-marburg.de/de/universitaet/administration/verwaltung/s
 tabsstellen/adis/aktuelles/termine/empowerment-workshop-fuer-betroffene-vo
 n-antimuslimischem-rassismus
END:VEVENT
BEGIN:VTIMEZONE
TZID:Europe/Berlin
X-LIC-LOCATION:Europe/Berlin
BEGIN:STANDARD
DTSTART:20251026T020000
TZNAME:CET
TZOFFSETFROM:+0200
TZOFFSETTO:+0100
END:STANDARD
END:VTIMEZONE
END:VCALENDAR
