BEGIN:VCALENDAR
VERSION:2.0
PRODID:-//Plone.org//NONSGML plone.app.event//EN
X-WR-TIMEZONE:Europe/Berlin
BEGIN:VEVENT
SUMMARY:Empowermentworkshop für BiPoC Studierende
DTSTART;VALUE=DATE:20250519
DTEND;VALUE=DATE:20250520
DTSTAMP:20260425T015225Z
UID:7c56ef3cd7f94fbb8302ce26e0b746c8@www.uni-marburg.de
ATTENDEE;CN="Tarah-Tanita Truderung";ROLE=REQ-PARTICIPANT:Tarah-Tanita Tru
 derung
CREATED:20250415T092459Z
DESCRIPTION:https://www.uni-marburg.de/de/universitaet/administration/verw
 altung/stabsstellen/adis/aktuelles/termine/empowermentworkshop-fuer-bipoc-
 studierende\n
LAST-MODIFIED:20250514T105816Z
LOCATION:Ort wird nach Anmeldung bekannt gegeben
URL:https://www.uni-marburg.de/de/universitaet/administration/verwaltung/s
 tabsstellen/adis/aktuelles/termine/empowermentworkshop-fuer-bipoc-studiere
 nde
END:VEVENT
END:VCALENDAR
