BEGIN:VCALENDAR
VERSION:2.0
PRODID:-//Plone.org//NONSGML plone.app.event//EN
X-WR-TIMEZONE:Europe/Berlin
BEGIN:VEVENT
SUMMARY:Erinnern heißt Verantwortung – Im Gespräch mit Ivar Buterfas-F
 rankenthal
DTSTART;TZID=Europe/Berlin:20251112T183000
DTSTAMP:20260425T220437Z
UID:fbc7b382e4204a268693b6340ef88842@www.uni-marburg.de
ATTENDEE;CN="Ivar Buterfas-Frankenthal und Dagmar Buterfas-Frankenthal";RO
 LE=REQ-PARTICIPANT:Ivar Buterfas-Frankenthal und Dagmar Buterfas-Frankenth
 al
CREATED:20251030T112505Z
DESCRIPTION:https://www.uni-marburg.de/de/universitaet/administration/verw
 altung/stabsstellen/adis/aktuelles/termine/erinnern-heisst-verantwortung-i
 m-gespraech-mit-ivar-buterfas-frankenthal\nVeranstaltung der Reihe "Talk i
 m Turm"
LAST-MODIFIED:20251030T112531Z
LOCATION:Hörsaal 5\, Campus Rechts- und Wirtschaftswissenschaften JLU Gie
 ßen (Licher Str. 68)
URL:https://www.uni-marburg.de/de/universitaet/administration/verwaltung/s
 tabsstellen/adis/aktuelles/termine/erinnern-heisst-verantwortung-im-gespra
 ech-mit-ivar-buterfas-frankenthal
END:VEVENT
BEGIN:VTIMEZONE
TZID:Europe/Berlin
X-LIC-LOCATION:Europe/Berlin
BEGIN:STANDARD
DTSTART:20251026T020000
TZNAME:CET
TZOFFSETFROM:+0200
TZOFFSETTO:+0100
END:STANDARD
END:VTIMEZONE
END:VCALENDAR
