BEGIN:VCALENDAR
VERSION:2.0
PRODID:-//Plone.org//NONSGML plone.app.event//EN
X-WR-TIMEZONE:Europe/Berlin
BEGIN:VEVENT
SUMMARY:EStER Willkommens-Brunch
DTSTART;TZID=Europe/Berlin:20230422T120000
DTEND;TZID=Europe/Berlin:20230422T150000
DTSTAMP:20260424T055151Z
UID:2ba8746fec974fe0b7daff9f1d118797@www.uni-marburg.de
CREATED:20230419T104432Z
DESCRIPTION:https://www.uni-marburg.de/de/universitaet/administration/verw
 altung/stabsstellen/adis/aktuelles/termine/ester-willkommens-brunch\n
LAST-MODIFIED:20230419T104640Z
LOCATION:KFZ\, Biegenstraße 13
URL:https://www.uni-marburg.de/de/universitaet/administration/verwaltung/s
 tabsstellen/adis/aktuelles/termine/ester-willkommens-brunch
END:VEVENT
BEGIN:VTIMEZONE
TZID:Europe/Berlin
X-LIC-LOCATION:Europe/Berlin
BEGIN:DAYLIGHT
DTSTART:20230326T030000
TZNAME:CEST
TZOFFSETFROM:+0100
TZOFFSETTO:+0200
END:DAYLIGHT
END:VTIMEZONE
END:VCALENDAR
