BEGIN:VCALENDAR
VERSION:2.0
PRODID:-//Plone.org//NONSGML plone.app.event//EN
X-WR-TIMEZONE:Europe/Berlin
BEGIN:VEVENT
SUMMARY:Feministisches Sommerfest
DTSTART;TZID=Europe/Berlin:20250617T170000
DTSTAMP:20260425T062024Z
UID:e1d2a7ca05eb4b20ac4215264c248eb8@www.uni-marburg.de
CREATED:20250519T093444Z
DESCRIPTION:https://www.uni-marburg.de/de/universitaet/administration/verw
 altung/stabsstellen/adis/aktuelles/termine/feministisches-sommerfest\nEin 
 Fest der AG Feminismus des Marburger Netzwerks für Demokratie und gegen R
 echtsextremismus
LAST-MODIFIED:20250519T093451Z
LOCATION:Rotkehlchen Marburg
URL:https://www.uni-marburg.de/de/universitaet/administration/verwaltung/s
 tabsstellen/adis/aktuelles/termine/feministisches-sommerfest
END:VEVENT
BEGIN:VTIMEZONE
TZID:Europe/Berlin
X-LIC-LOCATION:Europe/Berlin
BEGIN:DAYLIGHT
DTSTART:20250330T030000
TZNAME:CEST
TZOFFSETFROM:+0100
TZOFFSETTO:+0200
END:DAYLIGHT
END:VTIMEZONE
END:VCALENDAR
