BEGIN:VCALENDAR
VERSION:2.0
PRODID:-//Plone.org//NONSGML plone.app.event//EN
X-WR-TIMEZONE:Europe/Berlin
BEGIN:VEVENT
SUMMARY:Gadjé-Rassismus & Co.
DTSTART;TZID=Europe/Berlin:20260115T103000
DTEND;TZID=Europe/Berlin:20260115T120000
DTSTAMP:20260425T033624Z
UID:48646967882047098137fb943b7cc9b3@www.uni-marburg.de
ATTENDEE;CN="Merfin Demir (Čerenja e.V)";ROLE=REQ-PARTICIPANT:Merfin Demi
 r (Čerenja e.V)
CREATED:20251023T140239Z
DESCRIPTION:https://www.uni-marburg.de/de/universitaet/administration/verw
 altung/stabsstellen/adis/aktuelles/termine/gadje-rassismus-co\nWeb-Seminar
  der Fachstelle Gender & Diversität
LAST-MODIFIED:20251023T141326Z
LOCATION:Online via Zoom
URL:https://www.uni-marburg.de/de/universitaet/administration/verwaltung/s
 tabsstellen/adis/aktuelles/termine/gadje-rassismus-co
END:VEVENT
BEGIN:VTIMEZONE
TZID:Europe/Berlin
X-LIC-LOCATION:Europe/Berlin
BEGIN:STANDARD
DTSTART:20251026T020000
TZNAME:CET
TZOFFSETFROM:+0200
TZOFFSETTO:+0100
END:STANDARD
END:VTIMEZONE
END:VCALENDAR
