BEGIN:VCALENDAR
VERSION:2.0
PRODID:-//Plone.org//NONSGML plone.app.event//EN
X-WR-TIMEZONE:Europe/Berlin
BEGIN:VEVENT
SUMMARY:Generationenvielfalt & Altersdiversität in Organisationen
DTSTART;TZID=Europe/Berlin:20260316T103000
DTEND;TZID=Europe/Berlin:20260316T113000
DTSTAMP:20260426T003727Z
UID:a3c71d8f07334b6a96afabd8f126f0e6@www.uni-marburg.de
ATTENDEE;CN="Dr. Irène Kilubi";ROLE=REQ-PARTICIPANT:Dr. Irène Kilubi
CREATED:20251023T150041Z
DESCRIPTION:https://www.uni-marburg.de/de/universitaet/administration/verw
 altung/stabsstellen/adis/aktuelles/termine/generationenvielfalt-altersdive
 rsitaet-in-organisationen\nWeb-Seminar der Fachstelle Gender & Diversität
LAST-MODIFIED:20251023T150048Z
LOCATION:Online via Zoom
URL:https://www.uni-marburg.de/de/universitaet/administration/verwaltung/s
 tabsstellen/adis/aktuelles/termine/generationenvielfalt-altersdiversitaet-
 in-organisationen
END:VEVENT
BEGIN:VTIMEZONE
TZID:Europe/Berlin
X-LIC-LOCATION:Europe/Berlin
BEGIN:STANDARD
DTSTART:20251026T020000
TZNAME:CET
TZOFFSETFROM:+0200
TZOFFSETTO:+0100
END:STANDARD
END:VTIMEZONE
END:VCALENDAR
