BEGIN:VCALENDAR
VERSION:2.0
PRODID:-//Plone.org//NONSGML plone.app.event//EN
X-WR-TIMEZONE:Europe/Berlin
BEGIN:VEVENT
SUMMARY:Get to know your rights! Rechte und Diskriminierungsschutz queerer
  Studierender
DTSTART;TZID=Europe/Berlin:20241024T150000
DTEND;TZID=Europe/Berlin:20241024T163000
DTSTAMP:20260425T020107Z
UID:4c7afb793bc844b790f8f6a85cc0c011@www.uni-marburg.de
ATTENDEE;CN="Katharina Völsch";ROLE=REQ-PARTICIPANT:Katharina Völsch
CREATED:20241023T130506Z
DESCRIPTION:https://www.uni-marburg.de/de/universitaet/administration/verw
 altung/stabsstellen/adis/aktuelles/termine/get-to-know-your-rights-rechte-
 und-diskriminierungsschutz-queerer-studierender\nVortrag im Rahmen der Qua
 lle
LAST-MODIFIED:20241023T130513Z
LOCATION:Club Behring (Bahnhofstr. 7)
URL:https://www.uni-marburg.de/de/universitaet/administration/verwaltung/s
 tabsstellen/adis/aktuelles/termine/get-to-know-your-rights-rechte-und-disk
 riminierungsschutz-queerer-studierender
END:VEVENT
BEGIN:VTIMEZONE
TZID:Europe/Berlin
X-LIC-LOCATION:Europe/Berlin
BEGIN:DAYLIGHT
DTSTART:20240331T030000
TZNAME:CEST
TZOFFSETFROM:+0100
TZOFFSETTO:+0200
END:DAYLIGHT
END:VTIMEZONE
END:VCALENDAR
